BEGIN:VCALENDAR
VERSION:2.0
PRODID:-//BENCHS - ECPv6.15.20//NONSGML v1.0//EN
CALSCALE:GREGORIAN
METHOD:PUBLISH
X-WR-CALNAME:BENCHS
X-ORIGINAL-URL:https://benchs.org
X-WR-CALDESC:Events for BENCHS
REFRESH-INTERVAL;VALUE=DURATION:PT1H
X-Robots-Tag:noindex
X-PUBLISHED-TTL:PT1H
BEGIN:VTIMEZONE
TZID:America/Chicago
BEGIN:DAYLIGHT
TZOFFSETFROM:-0600
TZOFFSETTO:-0500
TZNAME:CDT
DTSTART:20220313T080000
END:DAYLIGHT
BEGIN:STANDARD
TZOFFSETFROM:-0500
TZOFFSETTO:-0600
TZNAME:CST
DTSTART:20221106T070000
END:STANDARD
BEGIN:DAYLIGHT
TZOFFSETFROM:-0600
TZOFFSETTO:-0500
TZNAME:CDT
DTSTART:20230312T080000
END:DAYLIGHT
BEGIN:STANDARD
TZOFFSETFROM:-0500
TZOFFSETTO:-0600
TZNAME:CST
DTSTART:20231105T070000
END:STANDARD
BEGIN:DAYLIGHT
TZOFFSETFROM:-0600
TZOFFSETTO:-0500
TZNAME:CDT
DTSTART:20240310T080000
END:DAYLIGHT
BEGIN:STANDARD
TZOFFSETFROM:-0500
TZOFFSETTO:-0600
TZNAME:CST
DTSTART:20241103T070000
END:STANDARD
BEGIN:DAYLIGHT
TZOFFSETFROM:-0600
TZOFFSETTO:-0500
TZNAME:CDT
DTSTART:20250309T080000
END:DAYLIGHT
BEGIN:STANDARD
TZOFFSETFROM:-0500
TZOFFSETTO:-0600
TZNAME:CST
DTSTART:20251102T070000
END:STANDARD
BEGIN:DAYLIGHT
TZOFFSETFROM:-0600
TZOFFSETTO:-0500
TZNAME:CDT
DTSTART:20260308T080000
END:DAYLIGHT
BEGIN:STANDARD
TZOFFSETFROM:-0500
TZOFFSETTO:-0600
TZNAME:CST
DTSTART:20261101T070000
END:STANDARD
END:VTIMEZONE
BEGIN:VEVENT
DTSTART;TZID=America/Chicago:20250629T130000
DTEND;TZID=America/Chicago:20250629T180000
DTSTAMP:20260421T063440
CREATED:20250602T013926Z
LAST-MODIFIED:20250624T005956Z
UID:4608-1751202000-1751220000@benchs.org
SUMMARY:Bake Sale June
DESCRIPTION:Baked goods for people and pets\, benefiting the cats and dogs of BENCHS! \nLocated at the back of the PetSmart Store!
URL:https://benchs.org/event/bake-sale-june/
LOCATION:PetSmart\, 1890 Adams St\, Mankato\, MN\, 56001\, United States
CATEGORIES:Event,Fundraiser,News & Events
ATTACH;FMTTYPE=image/jpeg:https://benchs.org/wp-content/uploads/2025/06/IMG_1623.jpeg
END:VEVENT
BEGIN:VEVENT
DTSTART;VALUE=DATE:20230908
DTEND;VALUE=DATE:20230911
DTSTAMP:20260421T063440
CREATED:20230731T061018Z
LAST-MODIFIED:20230905T024023Z
UID:3981-1694131200-1694390399@benchs.org
SUMMARY:Fall Cat & Dog Supply Sale Fundraiser
DESCRIPTION:Looking for some new (maybe new to you) pet supplies?  BENCHS will be hosting a Fall Cat & Dog Supply Sale in early September! We receive so many wonderful donations – many of them BRAND NEW! We can’t even imagine using them all\, so we sell them to raise funds for the shelter. Come on over to check out stacks of dog beds\, carriers\, cute costumes\, collars\, leashes\, and so much more! Something for everyone! \nMark your calendar for these dates: \n\nFriday\, September 8th    12pm-6pm\nSaturday\, September 9th   9am-4pm\nSunday\, September 10th   9am-12pm\n\nAll proceeds go directly to caring for the animals at BENCHS. Thank you everyone for your continued support of BENCHS. See you at the sale!
URL:https://benchs.org/event/fall-cat-dog-supply-sale-fundraiser/
LOCATION:MN
CATEGORIES:Event,Fundraiser,News & Events
ATTACH;FMTTYPE=image/jpeg:https://benchs.org/wp-content/uploads/2023/08/Fall-Sale-2023.jpg
END:VEVENT
BEGIN:VEVENT
DTSTART;VALUE=DATE:20230803
DTEND;VALUE=DATE:20230807
DTSTAMP:20260421T063440
CREATED:20230530T034756Z
LAST-MODIFIED:20230731T052930Z
UID:3879-1691020800-1691366399@benchs.org
SUMMARY:RibFest Fundraiser
DESCRIPTION:BENCHS has been asked to be the main nonprofit at the 25th Annual RibFest\, August 3-6\, 2023! The four-day fest will once again feature the best ribs from across the country and the finest in regional and national musical entertainment. It will take many hands to make this year’s RibFest another success and we are honored to have been chosen! \nIf you are attending RibFest this year don’t forget to stop at the BENCHS booth and vote for your favorite ribber! Every dollar donated goes directly to treating and caring for the animals at BENCHS!      $1 = 1 vote = $1 donated to BENCHS!  \nWe have filled all of our volunteer positions – thank you! Everyone participating should have received an email from Kayla with details about your role at the event. Remember\, volunteers will be outside in the sun for large chunks of time\, and will want to plan accordingly: sunscreen\, hats\, sunglasses\, water bottles\, etc. More information is available on our RibFest Volunteers page. Email Kayla at volunteerplanner@benchs.org with questions.
URL:https://benchs.org/event/3879/
LOCATION:Vetter Stone Ampitheater\, 309 West Rock Street\, Mankato\, MN\, 56001\, United States
CATEGORIES:Event,Fundraiser,News & Events
ATTACH;FMTTYPE=image/jpeg:https://benchs.org/wp-content/uploads/2023/05/Screenshot-2023-05-29-at-9.09.27-PM.jpg
ORGANIZER;CN="BENCHS Volunteer Coordinator":MAILTO:volunteerplanner@benchs.org
END:VEVENT
BEGIN:VEVENT
DTSTART;VALUE=DATE:20230513
DTEND;VALUE=DATE:20230527
DTSTAMP:20260421T063440
CREATED:20230513T221706Z
LAST-MODIFIED:20230514T063845Z
UID:3743-1683936000-1685145599@benchs.org
SUMMARY:Surprise! Sale on BENCHS Gear!
DESCRIPTION:Now’s the time to get that new BENCHS gear for summer! \nT-shirts – Tanks – Sweatshirts – Hats – Accessories\nMen’s & Women’s \nOrder Now: https://benchs.secure-decoration.com/ \nCome to our outdoor events this summer wearing your BENCHS gear! \nNew orders ONLY placed from 5/12/23 – 5/26/23 (at midnight).
URL:https://benchs.org/event/surprise-sale-on-benchs-gear/
LOCATION:MN
CATEGORIES:Event,News & Events
END:VEVENT
END:VCALENDAR